BEGIN:VCALENDAR
VERSION:2.0
PRODID:-//Vision Engineering - ECPv6.15.12.2//NONSGML v1.0//EN
CALSCALE:GREGORIAN
METHOD:PUBLISH
X-ORIGINAL-URL:https://www.visioneng.com.br
X-WR-CALDESC:Eventos para Vision Engineering
REFRESH-INTERVAL;VALUE=DURATION:PT1H
X-Robots-Tag:noindex
X-PUBLISHED-TTL:PT1H
BEGIN:VTIMEZONE
TZID:Europe/Helsinki
BEGIN:DAYLIGHT
TZOFFSETFROM:+0200
TZOFFSETTO:+0300
TZNAME:EEST
DTSTART:20210328T010000
END:DAYLIGHT
BEGIN:STANDARD
TZOFFSETFROM:+0300
TZOFFSETTO:+0200
TZNAME:EET
DTSTART:20211031T010000
END:STANDARD
BEGIN:DAYLIGHT
TZOFFSETFROM:+0200
TZOFFSETTO:+0300
TZNAME:EEST
DTSTART:20220327T010000
END:DAYLIGHT
BEGIN:STANDARD
TZOFFSETFROM:+0300
TZOFFSETTO:+0200
TZNAME:EET
DTSTART:20221030T010000
END:STANDARD
BEGIN:DAYLIGHT
TZOFFSETFROM:+0200
TZOFFSETTO:+0300
TZNAME:EEST
DTSTART:20230326T010000
END:DAYLIGHT
BEGIN:STANDARD
TZOFFSETFROM:+0300
TZOFFSETTO:+0200
TZNAME:EET
DTSTART:20231029T010000
END:STANDARD
END:VTIMEZONE
BEGIN:VEVENT
DTSTART;VALUE=DATE:20220913
DTEND;VALUE=DATE:20220918
DTSTAMP:20260425T042126
CREATED:20200623T094012Z
LAST-MODIFIED:20231219T081301Z
UID:42254-1663027200-1663459199@www.visioneng.com.br
SUMMARY:AMB 2022
DESCRIPTION:STAND:  Halle  7 A18 \nLOCATION: STUTTGART\, Deutschland \nUnser Team von Experten steht Ihnen auf der AMB wie immer mit Rat und Tat zur Seite. Fragen Sie unsere Messtechnik-Spezialisten nach Lösungsvorschlägen für Ihre optischen oder videobasierten\, berührungslosen Messanwendungen
URL:https://www.visioneng.com.br/event/amb-show-2022/
LOCATION:Landesmesse Stuttgart\, Messepiazza 1\, Stuttgart\, Stuttgart\, 70629\, Germany
CATEGORIES:Blechbearbeitung,Mechanik,Werkzeug- und Formenbau
ATTACH;FMTTYPE=image/jpeg:https://www.visioneng.com.br/wp-content/uploads/2020/06/AMB-logo-550x400-1.jpg
END:VEVENT
END:VCALENDAR